BEGIN:VCALENDAR
VERSION:2.0
PRODID:-//HoneyMilk - ECPv6.15.17//NONSGML v1.0//EN
CALSCALE:GREGORIAN
METHOD:PUBLISH
X-WR-CALNAME:HoneyMilk
X-ORIGINAL-URL:https://honeymilkco.com
X-WR-CALDESC:Events for HoneyMilk
REFRESH-INTERVAL;VALUE=DURATION:PT1H
X-Robots-Tag:noindex
X-PUBLISHED-TTL:PT1H
BEGIN:VTIMEZONE
TZID:America/New_York
BEGIN:DAYLIGHT
TZOFFSETFROM:-0500
TZOFFSETTO:-0400
TZNAME:EDT
DTSTART:20240310T070000
END:DAYLIGHT
BEGIN:STANDARD
TZOFFSETFROM:-0400
TZOFFSETTO:-0500
TZNAME:EST
DTSTART:20241103T060000
END:STANDARD
BEGIN:DAYLIGHT
TZOFFSETFROM:-0500
TZOFFSETTO:-0400
TZNAME:EDT
DTSTART:20250309T070000
END:DAYLIGHT
BEGIN:STANDARD
TZOFFSETFROM:-0400
TZOFFSETTO:-0500
TZNAME:EST
DTSTART:20251102T060000
END:STANDARD
BEGIN:DAYLIGHT
TZOFFSETFROM:-0500
TZOFFSETTO:-0400
TZNAME:EDT
DTSTART:20260308T070000
END:DAYLIGHT
BEGIN:STANDARD
TZOFFSETFROM:-0400
TZOFFSETTO:-0500
TZNAME:EST
DTSTART:20261101T060000
END:STANDARD
END:VTIMEZONE
BEGIN:VEVENT
DTSTART;TZID=America/New_York:20250607T080000
DTEND;TZID=America/New_York:20250607T130000
DTSTAMP:20260424T092900
CREATED:20250604T205856Z
LAST-MODIFIED:20250604T205856Z
UID:11216-1749283200-1749301200@honeymilkco.com
SUMMARY:The Market @ Rail District
DESCRIPTION:The Rail District invites you to The Market\, an open-air market that showcases handmade\, homemade\, and homegrown products created by local artisans\, artists\, farmers\, and food trucks. With the Market vendors\, visitors can discover local goods directly from their creators on Saturdays of each month\, from May to November\, 8 AM-1 PM.
URL:https://honeymilkco.com/event/the-market-rail-district/
LOCATION:The Market @ Rail District\, 200 E Depot St\, LaGrange\, GA\, 30240\, United States
ATTACH;FMTTYPE=image/png:https://honeymilkco.com/wp-content/uploads/2025/06/TheMarket_RailDistrict.png
ORGANIZER;CN="The Rail District":MAILTO:info@abbottbg.com
END:VEVENT
END:VCALENDAR